BEGIN:VCALENDAR
VERSION:2.0
PRODID:icalendar-ruby
CALSCALE:GREGORIAN
METHOD:PUBLISH
BEGIN:VEVENT
DTSTAMP:20260424T145856Z
UID:14-471507@bridgecityjax.church
DTSTART:20260902T223000Z
DTEND:20260903T000000Z
CLASS:PUBLIC
CREATED:20260424T104924
DESCRIPTION:Join us Wednesday's at 6:30 PM for 1 or 3 mile route. All Paces
  welcome and stick around for food community. \n \nFollow Us on Instagra
 m by Clicking Here to stay in the know!
LAST-MODIFIED:20260424T104924
LOCATION:Follow Us on Instagram for Routes and Locations
SUMMARY:Bridge City Run Club
URL;VALUE=URI:https://www.bridgecityjax.church/events/bridge-city-run-club/
 2026-09-02
ATTACH;FILENAME=BC-RunClub-.jpg;FMTTYPE=image/jpeg:https://dq5pwpg1q8ru0.cl
 oudfront.net/2024/10/30/13/40/23/42a830e1-930a-46e6-8ace-10725f6f8275/BC-R
 unClub-.jpg
END:VEVENT
END:VCALENDAR
